BEGIN:VCALENDAR
VERSION:2.0
PRODID:-//ChamberMaster//Event Calendar 2.0//EN
METHOD:PUBLISH
X-PUBLISHED-TTL:P3D
REFRESH-INTERVAL:P3D
CALSCALE:GREGORIAN
BEGIN:VEVENT
DTSTART:20230211T183000Z
DTEND:20230211T230000Z
X-MICROSOFT-CDO-ALLDAYEVENT:FALSE
SUMMARY:25th annual Strike Out the Violence Bowlathon
DESCRIPTION:Join us this Saturday for an afternoon of bowling\, to raise money for McLeod Alliance! Minimum of $40 in pledge dollars to bowl. Each bowler will bowl 3 games\, get free pizza and pop\, and a chance to win lots of prizes that are donated by businesses and individuals in our community. Call McLeod Alliance to pre-register at 320-234-7933.
X-ALT-DESC;FMTTYPE=text/html:Join us this Saturday for an afternoon of bowling\, to raise money for McLeod Alliance! Minimum of $40 in pledge dollars to bowl. Each bowler will bowl 3 games\, get free pizza and pop\, and a chance to win lots of prizes that are donated by businesses and individuals in our community. Call McLeod Alliance to pre-register at 320-234-7933.
LOCATION:
UID:e.42.33412
SEQUENCE:3
DTSTAMP:20260425T232930Z
URL:https://business.explorehutchinson.com/events/details/25th-annual-strike-out-the-violence-bowlathon-33412
END:VEVENT

END:VCALENDAR
