BEGIN:VCALENDAR
VERSION:2.0
PRODID:-//ChamberMaster//Event Calendar 2.0//EN
METHOD:PUBLISH
X-PUBLISHED-TTL:P3D
REFRESH-INTERVAL:P3D
CALSCALE:GREGORIAN
BEGIN:VEVENT
DTSTART:20191102T140000Z
DTEND:20191102T200000Z
X-MICROSOFT-CDO-ALLDAYEVENT:FALSE
SUMMARY:3M Holiday Craft Show
DESCRIPTION:30th Annual 3M Club Holiday Craft Show. Over 100 displays of crafts form all around Minnesota. Lunch available on grounds. Everything held indoors.
X-ALT-DESC;FMTTYPE=text/html:30th Annual 3M Club Holiday Craft Show. Over 100 displays of crafts form all around Minnesota. Lunch available on grounds. Everything held indoors.
LOCATION:McLeod County Fairgrounds 840 Century Ave\, Hutchinson\, MN
UID:e.42.29551
SEQUENCE:3
DTSTAMP:20260423T014302Z
URL:https://business.explorehutchinson.com/events/details/3m-holiday-craft-show-11-02-2019-29551
END:VEVENT

END:VCALENDAR
