BEGIN:VCALENDAR
VERSION:2.0
PRODID:-//ChamberMaster//Event Calendar 2.0//EN
METHOD:PUBLISH
X-PUBLISHED-TTL:P3D
REFRESH-INTERVAL:P3D
CALSCALE:GREGORIAN
BEGIN:VEVENT
DTSTART:20260428T170000Z
DTEND:20260428T210000Z
X-MICROSOFT-CDO-ALLDAYEVENT:FALSE
SUMMARY:50% off Storewide Sale: Twice is Nice
DESCRIPTION:Shop our best deal of the month! 50% off all items in the store plus red-tagged clothing items only $.50 each!
X-ALT-DESC;FMTTYPE=text/html:Shop our best deal of the month! 50% off all items in the store plus red-tagged clothing items only $.50 each!
LOCATION:Twice is Nice 35 Academy Lane NW\, Hutchinson
UID:e.42.41567
SEQUENCE:3
DTSTAMP:20260424T093646Z
URL:https://business.explorehutchinson.com/events/details/50-off-storewide-sale-twice-is-nice-41567
END:VEVENT

END:VCALENDAR
