BEGIN:VCALENDAR
VERSION:2.0
PRODID:-//ChamberMaster//Event Calendar 2.0//EN
METHOD:PUBLISH
X-PUBLISHED-TTL:P3D
REFRESH-INTERVAL:P3D
CALSCALE:GREGORIAN
BEGIN:VEVENT
DTSTART:20220618T150000Z
DTEND:20220618T190000Z
X-MICROSOFT-CDO-ALLDAYEVENT:FALSE
SUMMARY:79th Water Carnival - Community Day
DESCRIPTION:Community Day\n\nInflatables\, games\, food vendors and fun for children and families!\n\nPetting zoo\, Wheel & Cog\, Hutchinson Theater Company will be there!\n\nRain location: Rec Center\n\nRaffle Drawings at noon. Chances to win tickets throughout the morning. \n\nSponsored by Ashley HomeStore\, Hutchinson Area Chamber of Commerce\, Hutchinson Utilities\n\nDunk Tank\n\n11:00 AM Start Time at Community Day (West River Park - Rain Location: Rec Center)\n\nAll proceeds donated to the Watercarnival Scholarship Fund!\n\nSponsored by Larson Builders\, Kwik Trip\, Hutchinson Jaycees\n\nLive Music by Josie Sanken\n\n12:30 at the River Song Stage in West River Park\n\nSponsored by Nuvera\, CorTrust Bank
X-ALT-DESC;FMTTYPE=text/html:<h3><span style="font-size:14px"><span style="font-family:arial\,helvetica\,sans-serif"><strong>Community Day</strong><br />\nInflatables\, games\, food vendors and fun for children and families!<br />\nPetting zoo\, Wheel &amp\; Cog\, Hutchinson Theater Company will be there!<br />\nRain location: Rec Center</span></span><br />\nRaffle Drawings at noon. Chances to win tickets throughout the morning.&nbsp\;<br />\n<em>Sponsored by Ashley HomeStore\, Hutchinson Area Chamber of Commerce\, Hutchinson Utilities</em></h3>\n\n<h3><span style="font-size:14px"><span style="font-family:arial\,helvetica\,sans-serif"><strong>Dunk Tank</strong><br />\n11:00 AM Start Time at Community Day (West River Park - Rain Location: Rec Center)<br />\nAll proceeds donated to the Watercarnival Scholarship Fund!<br />\n<em>Sponsored by Larson Builders\, Kwik Trip\, Hutchinson Jaycees</em></span></span></h3>\n\n<h3><span style="font-size:14px"><span style="font-family:arial\,helvetica\,sans-serif"><strong>Live Music by Josie Sanken</strong><br />\n12:30 at the River Song Stage in West River Park<br />\n<em>Sponsored by Nuvera\, CorTrust Bank</em></span></span></h3>\n<br />\n&nbsp\;
LOCATION:
UID:e.42.31746
SEQUENCE:3
DTSTAMP:20260425T110523Z
URL:https://business.explorehutchinson.com/events/details/79th-water-carnival-community-day-31746
END:VEVENT

END:VCALENDAR
