BEGIN:VCALENDAR
VERSION:2.0
PRODID:-//ChamberMaster//Event Calendar 2.0//EN
METHOD:PUBLISH
X-PUBLISHED-TTL:P3D
REFRESH-INTERVAL:P3D
CALSCALE:GREGORIAN
BEGIN:VEVENT
DTSTART:20220614T214500Z
DTEND:20220615T020000Z
X-MICROSOFT-CDO-ALLDAYEVENT:FALSE
SUMMARY:79th Water Carnival - Disc Golf Tournament
DESCRIPTION:Tuesday\, June 14\n\n\n	Schedule \n\n?        4:45-5:15 pm   Check-in with refreshments and souvenir disc\n\n        5:15 pm   Disc Golf Basics Clinic for those interested\n\n        5:20 pm   Player's meeting\n\n        5:30 pm   Tee time\n\n        8:30 pm or so   NEW! Post-course fun! Closest to Pin and Ring of Fire contests and prizes\n\n	Location: Ridgewater College 9-hole course\, Hutchinson campus\n	Entry Fees: $5-$20\, depending on division\n	Register online by 4pm June 13th: https://ridgewater.edu/alumni-friends/ridgewater-college-foundation/events/disc-golf-event-registration/
X-ALT-DESC;FMTTYPE=text/html:<h3>Tuesday\, June 14</h3>\n\n<ul>\n	<li><strong>Schedule&nbsp\;</strong></li>\n</ul>\n<strong>?</strong>&nbsp\;&nbsp\;&nbsp\;&nbsp\;&nbsp\;&nbsp\;&nbsp\;&nbsp\;4:45-5:15 pm &ndash\; Check-in with refreshments and souvenir disc<br />\n&nbsp\;&nbsp\;&nbsp\;&nbsp\;&nbsp\;&nbsp\;&nbsp\;&nbsp\;5:15 pm &ndash\; Disc Golf Basics Clinic for those interested<br />\n&nbsp\;&nbsp\;&nbsp\;&nbsp\;&nbsp\;&nbsp\;&nbsp\;&nbsp\;5:20 pm &ndash\; Player&rsquo\;s meeting<br />\n&nbsp\;&nbsp\;&nbsp\;&nbsp\;&nbsp\;&nbsp\;&nbsp\;&nbsp\;5:30 pm &ndash\; Tee time<br />\n&nbsp\;&nbsp\;&nbsp\;&nbsp\;&nbsp\;&nbsp\;&nbsp\;&nbsp\;8:30 pm or so &ndash\; NEW! Post-course fun! Closest to Pin and Ring of Fire contests and prizes\n<ul>\n	<li><strong>Location:</strong>&nbsp\;Ridgewater College 9-hole course\, Hutchinson campus</li>\n	<li><strong>Entry Fees:&nbsp\;</strong>$5-$20\, depending on division</li>\n	<li><strong>Register</strong>&nbsp\;online by 4pm June 13th:&nbsp\;https://ridgewater.edu/alumni-friends/ridgewater-college-foundation/events/disc-golf-event-registration/</li>\n</ul>\n
LOCATION:
UID:e.42.31751
SEQUENCE:3
DTSTAMP:20260425T110734Z
URL:https://business.explorehutchinson.com/events/details/79th-water-carnival-disc-golf-tournament-31751
END:VEVENT

END:VCALENDAR
