BEGIN:VCALENDAR
VERSION:2.0
PRODID:-//ChamberMaster//Event Calendar 2.0//EN
METHOD:PUBLISH
X-PUBLISHED-TTL:P3D
REFRESH-INTERVAL:P3D
CALSCALE:GREGORIAN
BEGIN:VEVENT
DTSTART:20220619T180000Z
DTEND:20220619T193000Z
X-MICROSOFT-CDO-ALLDAYEVENT:FALSE
SUMMARY:79th Water Carnival - Grande Day Parade
DESCRIPTION:Parade starts at 1:00 pm at Main Street and 1st Ave NW\, proceeding south on Main Street\, west on 4th Ave SW\, south on Lynn Road\, west on Linden\, and ending at the intersection of Harrington and Linden. \n\n\n\nSponsored by Hutchinson Area Chamber of Commerce\, Walmart and Hutch Bowl/Squeaky's Grill & Bar
X-ALT-DESC;FMTTYPE=text/html:<h3><span style="color:windowtext"><span style="font-family:times new roman\,serif"><span style="font-size:12.0pt"><span style="font-size:14px"><span style="font-family:arial\,helvetica\,sans-serif">Parade starts at 1:00 pm at Main Street and 1st Ave NW\, proceeding south on Main Street\, west on 4th Ave SW\, south on Lynn Road\, west on Linden\, and ending at the intersection of Harrington and Linden.&nbsp\;<br />\n<br />\n<em>Sponsored by Hutchinson Area Chamber of Commerce\, Walmart and Hutch Bowl/Squeaky&#39\;s Grill &amp\; Bar</em></span></span> </span></span></span><br />\n&nbsp\;</h3>\n
LOCATION:
UID:e.42.31757
SEQUENCE:3
DTSTAMP:20260425T110901Z
URL:https://business.explorehutchinson.com/events/details/79th-water-carnival-grande-day-parade-31757
END:VEVENT

END:VCALENDAR
