BEGIN:VCALENDAR
VERSION:2.0
PRODID:-//ChamberMaster//Event Calendar 2.0//EN
METHOD:PUBLISH
X-PUBLISHED-TTL:P3D
REFRESH-INTERVAL:P3D
CALSCALE:GREGORIAN
BEGIN:VEVENT
DTSTART:20220618T160000Z
DTEND:20220618T163000Z
X-MICROSOFT-CDO-ALLDAYEVENT:FALSE
SUMMARY:79th Water Carnival - Kiddy and Puppy Parade
DESCRIPTION:Registration begins at 10:00 AM until 10:30 AM.  The parade will begin promptly at 11:00 a.m. going throughout Riverside Park. In case of rain\, all events will be moved to the Hutchinson Recreation Center.\n\nNEW For 2022: Puppy Parade! Register your pup and dress them up in costume. Prizes given for best dressed dogs. \n\nCategories for the Kiddy parade are:\n\n\n	Movie & TV Characters\n	Sports Figures\n	Historical Figures\n	Storybook Characters\n	Pets & Animals\n	Wheels & Wagons\n	Clowns & Bums\n	Miscellanous\n\n\nCash prizes will be awarded to the parade entries that are judged to be first\, second and third place winners in each of the eight categories. Prizes will be presented during the program following the parade.\n\n\n\nSponsored by Culvers Restaurant\, Goebel Fixture Company\, West Central Technology
X-ALT-DESC;FMTTYPE=text/html:<h6><span style="font-size:13px">Registration begins at 10:00 AM until 10:30 AM.&nbsp\; The parade will begin promptly at 11:00 a.m. going throughout Riverside Park. In case of rain\, all events will be moved to the Hutchinson Recreation Center.</span></h6>\n\n<p><strong>NEW For 2022:</strong> Puppy Parade! Register your pup and dress them up in costume. Prizes given for best dressed dogs.&nbsp\;</p>\n\n<p>Categories for the Kiddy parade are:</p>\n\n<ul>\n	<li>Movie &amp\; TV Characters</li>\n	<li>Sports Figures</li>\n	<li>Historical Figures</li>\n	<li>Storybook Characters</li>\n	<li>Pets &amp\; Animals</li>\n	<li>Wheels &amp\; Wagons</li>\n	<li>Clowns &amp\; Bums</li>\n	<li>Miscellanous</li>\n</ul>\n\n<p>Cash prizes will be awarded to the parade entries that are judged to be first\, second and third place winners in each of the eight categories. Prizes will be presented during the program following the parade.<br />\n<br />\n<em><span style="font-size:14px"><span style="font-family:arial\,helvetica\,sans-serif">Sponsored by Culvers Restaurant\, Goebel Fixture Company\, West Central Technology</span></span></em></p>\n
LOCATION:
UID:e.42.31755
SEQUENCE:3
DTSTAMP:20260425T110953Z
URL:https://business.explorehutchinson.com/events/details/79th-water-carnival-kiddy-day-parade-31755
END:VEVENT

END:VCALENDAR
