BEGIN:VCALENDAR
VERSION:2.0
PRODID:-//ChamberMaster//Event Calendar 2.0//EN
METHOD:PUBLISH
X-PUBLISHED-TTL:P3D
REFRESH-INTERVAL:P3D
CALSCALE:GREGORIAN
BEGIN:VEVENT
DTSTART:20220613T220000Z
DTEND:20220620T040000Z
X-MICROSOFT-CDO-ALLDAYEVENT:FALSE
SUMMARY:79th Water Carnival - Medallion Hunt
DESCRIPTION:Medallion Hunt Kickoff @ Music in the Park at Library Square\n\nFirst clue will be given at Music in the Park @ 6:00 PM!\n\n$500 grand prize! \n\n\n\nSponsored by E.G. Rud & Sons\, Inc\nRain location - McLeod County Fairgrounds
X-ALT-DESC;FMTTYPE=text/html:<h2><span style="font-size:14px"><span style="font-family:arial\,helvetica\,sans-serif"><strong>Medallion Hunt Kickoff @ Music in the Park at Library Square</strong><br />\n<span style="color:windowtext">First clue will be given at Music in the Park @ 6:00 PM!<br />\n$500 grand prize!&nbsp\;</span><br />\n<br />\n<em><span style="color:windowtext">Sponsored by E.G. Rud &amp\; Sons\, Inc</span></em></span></span></h2>\nRain location - McLeod County Fairgrounds\n\n<h3>&nbsp\;</h3>\n
LOCATION:
UID:e.42.31750
SEQUENCE:3
DTSTAMP:20260425T110620Z
URL:https://business.explorehutchinson.com/events/details/79th-water-carnival-medallion-hunt-31750
END:VEVENT

END:VCALENDAR
