BEGIN:VCALENDAR
VERSION:2.0
PRODID:-//ChamberMaster//Event Calendar 2.0//EN
METHOD:PUBLISH
X-PUBLISHED-TTL:P3D
REFRESH-INTERVAL:P3D
CALSCALE:GREGORIAN
BEGIN:VEVENT
DTSTART:20220620T030000Z
DTEND:20220620T033000Z
X-MICROSOFT-CDO-ALLDAYEVENT:FALSE
SUMMARY:79th Water Carnival - Sunday Fireworks
DESCRIPTION:10:00 PM\, displayed over the Crow River\n\nFREE seating and parking at Roberts Park\, Oddfellows Park and Les Kouba Point\n\n\n\nSponsored by Walmart and City of Hutchinson
X-ALT-DESC;FMTTYPE=text/html:<h3><span style="font-size:14px"><span style="font-family:arial\,helvetica\,sans-serif">10:00 PM\, displayed over the Crow River<br />\nFREE seating and parking at Roberts Park\, Oddfellows Park and Les Kouba Point<br />\n<br />\n<em>Sponsored by Walmart and City of Hutchinson</em></span></span><br />\n&nbsp\;</h3>\n
LOCATION:
UID:e.42.31759
SEQUENCE:3
DTSTAMP:20260425T110657Z
URL:https://business.explorehutchinson.com/events/details/79th-water-carnival-sunday-fireworks-31759
END:VEVENT

END:VCALENDAR
