BEGIN:VCALENDAR
VERSION:2.0
PRODID:-//ChamberMaster//Event Calendar 2.0//EN
METHOD:PUBLISH
X-PUBLISHED-TTL:P3D
REFRESH-INTERVAL:P3D
CALSCALE:GREGORIAN
BEGIN:VEVENT
DTSTART;VALUE=DATE:20230612
DTEND;VALUE=DATE:20230619
TRANSP:TRANSPARENT
X-MICROSOFT-CDO-ALLDAYEVENT:TRUE
SUMMARY:80th Water Carnival
DESCRIPTION:The Hutchinson Jaycee Water Carnival is a Community Festival provided to Hutchinson and surrounding areas. This festival highlights the local pride of area businesses and citizens\; encouraging community support\, fellowship and family fun.
X-ALT-DESC;FMTTYPE=text/html:<h4>The Hutchinson Jaycee Water Carnival is a Community Festival provided to Hutchinson and surrounding areas. This festival highlights the local pride of area businesses and citizens\; encouraging community support\, fellowship and family fun.</h4>\n
LOCATION:
UID:e.42.33616
SEQUENCE:3
DTSTAMP:20260426T035224Z
URL:https://business.explorehutchinson.com/events/details/80th-water-carnival-33616
END:VEVENT

END:VCALENDAR
