BEGIN:VCALENDAR
VERSION:2.0
PRODID:-//ChamberMaster//Event Calendar 2.0//EN
METHOD:PUBLISH
X-PUBLISHED-TTL:P3D
REFRESH-INTERVAL:P3D
CALSCALE:GREGORIAN
BEGIN:VEVENT
DTSTART:20230602T160000Z
DTEND:20230602T180000Z
X-MICROSOFT-CDO-ALLDAYEVENT:FALSE
SUMMARY:80th Water Carnival Cow Milking Contest at Dairy Day
DESCRIPTION:
X-ALT-DESC;FMTTYPE=text/html:
LOCATION:Library Square
UID:e.42.34797
SEQUENCE:3
DTSTAMP:20260426T040139Z
URL:https://business.explorehutchinson.com/events/details/80th-water-carnival-cow-milking-contest-at-dairy-day-34797
END:VEVENT

END:VCALENDAR
