BEGIN:VCALENDAR
VERSION:2.0
PRODID:-//ChamberMaster//Event Calendar 2.0//EN
METHOD:PUBLISH
X-PUBLISHED-TTL:P3D
REFRESH-INTERVAL:P3D
CALSCALE:GREGORIAN
BEGIN:VEVENT
DTSTART:20230618T180000Z
DTEND:20230618T193000Z
X-MICROSOFT-CDO-ALLDAYEVENT:FALSE
SUMMARY:80th Water Carnival Grande Day Parade
DESCRIPTION:
X-ALT-DESC;FMTTYPE=text/html:
LOCATION:Main Street\, Parade Route
UID:e.42.34829
SEQUENCE:3
DTSTAMP:20260426T035414Z
URL:https://business.explorehutchinson.com/events/details/80th-water-carnival-grande-day-parade-34829
END:VEVENT

END:VCALENDAR
