BEGIN:VCALENDAR
VERSION:2.0
PRODID:-//ChamberMaster//Event Calendar 2.0//EN
METHOD:PUBLISH
X-PUBLISHED-TTL:P3D
REFRESH-INTERVAL:P3D
CALSCALE:GREGORIAN
BEGIN:VEVENT
DTSTART:20230617T150000Z
DTEND:20230617T163000Z
X-MICROSOFT-CDO-ALLDAYEVENT:FALSE
SUMMARY:80th Water Carnival Kiddy/Puppy Parade
DESCRIPTION:Kiddy / Puppy Parade Registration: 10 a.m. \n\nKiddy / Puppy Parade Line-up: 10:30 a.m. \n\nKiddy / Puppy Parade: 11:00 a.m.
X-ALT-DESC;FMTTYPE=text/html:Kiddy / Puppy Parade Registration: 10 a.m.&nbsp\;<br />\nKiddy / Puppy Parade Line-up: 10:30 a.m.&nbsp\;<br />\nKiddy / Puppy Parade: 11:00 a.m.
LOCATION:Masonic West River Park
UID:e.42.34804
SEQUENCE:3
DTSTAMP:20260426T035403Z
URL:https://business.explorehutchinson.com/events/details/80th-water-carnival-kiddy-day-parade-34804
END:VEVENT

END:VCALENDAR
