BEGIN:VCALENDAR
VERSION:2.0
PRODID:-//ChamberMaster//Event Calendar 2.0//EN
METHOD:PUBLISH
X-PUBLISHED-TTL:P3D
REFRESH-INTERVAL:P3D
CALSCALE:GREGORIAN
BEGIN:VEVENT
DTSTART:20230612T220000Z
DTEND:20230613T010000Z
X-MICROSOFT-CDO-ALLDAYEVENT:FALSE
SUMMARY:80th Water Carnival Medallion Hunt Kick-Off & Introduction of Queen Candidates at Music in the Park
DESCRIPTION:Join us at Music in the Park to meet the Queen Candidates and receive the first clue for the Medallion Hunt!\n\n\n\n5:00 pm Event Starts\n\n5:55 pm Queen Candidates Announced\n\n6:00 pm Medallion Hunt Kick off\n\n6:30 pm Music Starts
X-ALT-DESC;FMTTYPE=text/html:Join us at Music in the Park to meet the Queen Candidates and receive the first clue for the Medallion Hunt!<br />\n<br />\n5:00 pm Event Starts<br />\n5:55 pm Queen Candidates Announced<br />\n6:00 pm Medallion Hunt Kick off<br />\n6:30 pm Music Starts
LOCATION:Library Square Rain Location: Fairgrounds
UID:e.42.34796
SEQUENCE:3
DTSTAMP:20260426T035904Z
URL:https://business.explorehutchinson.com/events/details/80th-water-carnival-medallion-hunt-kick-off-introduction-of-queen-candidates-at-music-in-the-park-34796
END:VEVENT

END:VCALENDAR
