BEGIN:VCALENDAR
VERSION:2.0
PRODID:-//ChamberMaster//Event Calendar 2.0//EN
METHOD:PUBLISH
X-PUBLISHED-TTL:P3D
REFRESH-INTERVAL:P3D
CALSCALE:GREGORIAN
BEGIN:VEVENT
DTSTART:20261204T010000Z
DTEND:20261204T033000Z
X-MICROSOFT-CDO-ALLDAYEVENT:FALSE
SUMMARY:A Country Christmas
DESCRIPTION:Phil Thompson's A Country Christmas is a beloved holiday tradition in Minnesota\, bringing together the warmth of country music with the festive spirit of the season. Known for his smooth vocals and heartfelt performances\, Phil delivers both classic holiday favorites and country hits\, creating a show that's full of cheer and nostalgia. Perfect for families\, friends\, and anyone looking to celebrate the season with great music\, this concert is sure to get you in the holiday spirit.
X-ALT-DESC;FMTTYPE=text/html:Phil Thompson&rsquo\;s A Country Christmas is a beloved holiday tradition in Minnesota\, bringing together the warmth of country music with the festive spirit of the season. Known for his smooth vocals and heartfelt performances\, Phil delivers both classic holiday favorites and country hits\, creating a show that&rsquo\;s full of cheer and nostalgia. Perfect for families\, friends\, and anyone looking to celebrate the season with great music\, this concert is sure to get you in the holiday spirit.
LOCATION:Crow River Winery
UID:e.42.37849
SEQUENCE:3
DTSTAMP:20260419T165831Z
URL:https://business.explorehutchinson.com/events/details/a-country-christmas-37849
END:VEVENT

END:VCALENDAR
