BEGIN:VCALENDAR
VERSION:2.0
PRODID:-//ChamberMaster//Event Calendar 2.0//EN
METHOD:PUBLISH
X-PUBLISHED-TTL:P3D
REFRESH-INTERVAL:P3D
CALSCALE:GREGORIAN
BEGIN:VEVENT
DTSTART:20230226T173000Z
DTEND:20230226T203000Z
X-MICROSOFT-CDO-ALLDAYEVENT:FALSE
SUMMARY:A Taste of Nations
DESCRIPTION:Maplewood Academy will be holding "A Taste of Nations" to celebrate the many ethnic cultures represented on our campus. The event will feature food and entertainment from different parts of the world. It all starts on February 26\, 2023 from 11:30 am to 2:30 pm. This is a fundraising event with all proceeds benefiting the Maplewood Academy Worthy Student Fund.
X-ALT-DESC;FMTTYPE=text/html:Maplewood Academy will be holding &quot\;A Taste of Nations&quot\; to celebrate the many ethnic cultures represented on our campus. The event will feature food and entertainment from different parts of the world. It all starts on February 26\, 2023 from 11:30 am to 2:30 pm. This is a fundraising event with all proceeds benefiting the Maplewood Academy Worthy Student Fund.
LOCATION:Maplewood Academy Gymnasium 700 Main Street North Hutchinson\, MN 55350
UID:e.42.34263
SEQUENCE:3
DTSTAMP:20260425T215707Z
URL:https://business.explorehutchinson.com/events/details/a-taste-of-nations-34263
END:VEVENT

END:VCALENDAR
