BEGIN:VCALENDAR
VERSION:2.0
PRODID:-//ChamberMaster//Event Calendar 2.0//EN
METHOD:PUBLISH
X-PUBLISHED-TTL:P3D
REFRESH-INTERVAL:P3D
CALSCALE:GREGORIAN
BEGIN:VEVENT
DTSTART:20230202T170000Z
DTEND:20230202T180000Z
X-MICROSOFT-CDO-ALLDAYEVENT:FALSE
SUMMARY:Activity Directory Information Session
DESCRIPTION:Make a Difference for the Aging Population If you enjoy spending time with senior citizens like your grandparents and are creative\, energetic and innovative\, maybe a career as an activity director is for you! Be the fun in residents' days for those living in care centers or assisted living settings. Train in two years or less in our fully online Activity Director Associate's Degree program - the only one in the country! TOPICS   Meet faculty during a program overview   Discover the convenience of this successful online learning model   Explore career options in this field   Hear from alumni and industry professionals   Meet Admissions staff and learn about the application process Reserve a spot: ridgewater.edu/activitydirector   320-222-5971
X-ALT-DESC;FMTTYPE=text/html:Make a Difference for the Aging Population If you enjoy spending time with senior citizens like your grandparents and are creative\, energetic and innovative\, maybe a career as an activity director is for you! Be the fun in residents&rsquo\; days for those living in care centers or assisted living settings. Train in two years or less in our fully online Activity Director Associate&rsquo\;s Degree program - the only one in the country! TOPICS &bull\; Meet faculty during a program overview &bull\; Discover the convenience of this successful online learning model &bull\; Explore career options in this field &bull\; Hear from alumni and industry professionals &bull\; Meet Admissions staff and learn about the application process Reserve a spot: ridgewater.edu/activitydirector &bull\; 320-222-5971
LOCATION:Virtual via Zoom
UID:e.42.33617
SEQUENCE:3
DTSTAMP:20260425T215641Z
URL:https://business.explorehutchinson.com/events/details/activity-directory-information-session-33617
END:VEVENT

END:VCALENDAR
