BEGIN:VCALENDAR
VERSION:2.0
PRODID:-//ChamberMaster//Event Calendar 2.0//EN
METHOD:PUBLISH
X-PUBLISHED-TTL:P3D
REFRESH-INTERVAL:P3D
CALSCALE:GREGORIAN
BEGIN:VEVENT
DTSTART:20260117T160000Z
DTEND:20260117T180000Z
X-MICROSOFT-CDO-ALLDAYEVENT:FALSE
SUMMARY:Adoption Event
DESCRIPTION:The Heart of Minnesota Animal Shelter is hosting an Adoption Event at PetSmart from 10:00-12:00. Come meet some of the available cats and dogs looking for their furever homes!
X-ALT-DESC;FMTTYPE=text/html:The Heart of Minnesota Animal Shelter is hosting an Adoption Event at PetSmart from 10:00-12:00. Come meet some of the available cats and dogs looking for their furever homes!
LOCATION:
UID:e.42.37942
SEQUENCE:3
DTSTAMP:20260421T114904Z
URL:https://business.explorehutchinson.com/events/details/adoption-event-37942
END:VEVENT

END:VCALENDAR
