BEGIN:VCALENDAR
VERSION:2.0
PRODID:-//ChamberMaster//Event Calendar 2.0//EN
METHOD:PUBLISH
X-PUBLISHED-TTL:P3D
REFRESH-INTERVAL:P3D
CALSCALE:GREGORIAN
BEGIN:VEVENT
DTSTART:20230215T160000Z
DTEND:20230303T210000Z
X-MICROSOFT-CDO-ALLDAYEVENT:FALSE
SUMMARY:Annual Youth Art Show
DESCRIPTION:Art from McLeod county K-12 students on display.
X-ALT-DESC;FMTTYPE=text/html:Art from McLeod county K-12 students on display.&nbsp\;
LOCATION:Hutchinson Center for the Arts 15 Franklin St SW Hutchinson\, MN 55350
UID:e.42.33387
SEQUENCE:3
DTSTAMP:20260419T162028Z
URL:https://business.explorehutchinson.com/events/details/annual-youth-art-show-33387
END:VEVENT

END:VCALENDAR
