BEGIN:VCALENDAR
VERSION:2.0
PRODID:-//ChamberMaster//Event Calendar 2.0//EN
METHOD:PUBLISH
X-PUBLISHED-TTL:P3D
REFRESH-INTERVAL:P3D
CALSCALE:GREGORIAN
BEGIN:VEVENT
DTSTART:20260314T190000Z
DTEND:20260314T220000Z
X-MICROSOFT-CDO-ALLDAYEVENT:FALSE
SUMMARY:Archive 101 Wedding & Event Showcase
DESCRIPTION:Join us at Archive 101 for an evening of inspiration\, connection\, and celebration!\n\n \n\nExplore the space beautifully set for weddings and special events. Meet local vendors including catering\, floral\, d cor\, and event professionals. Enjoy samples\, tour the venue\, and gather inspiration for your upcoming celebration.\n\n\n\nWhether you're planning a wedding\, graduation\, corporate gathering\, or private event   this is the perfect opportunity to see the venue in action.\n\n \n\nFree and open to the public. No registration required.\n\n \n\nWe can't wait to welcome you!
X-ALT-DESC;FMTTYPE=text/html:<p>Join us at Archive 101 for an evening of inspiration\, connection\, and celebration!</p>\n\n<p>&nbsp\;</p>\n\n<p>Explore the space beautifully set for weddings and special events. Meet local vendors including catering\, floral\, d&eacute\;cor\, and event professionals. Enjoy samples\, tour the venue\, and gather inspiration for your upcoming celebration.<br />\n<br />\nWhether you&rsquo\;re planning a wedding\, graduation\, corporate gathering\, or private event &mdash\; this is the perfect opportunity to see the venue in action.</p>\n\n<p>&nbsp\;</p>\n\n<p>Free and open to the public. No registration required.</p>\n\n<p>&nbsp\;</p>\n\n<p>We can&rsquo\;t wait to welcome you!</p>\n\n<div>&nbsp\;</div>\n
LOCATION:Archive 101 101 Main Street South Hutchinson\, MN
UID:e.42.41458
SEQUENCE:3
DTSTAMP:20260421T151001Z
URL:https://business.explorehutchinson.com/events/details/archive-101-wedding-event-showcase-41458
END:VEVENT

END:VCALENDAR
