BEGIN:VCALENDAR
VERSION:2.0
PRODID:-//ChamberMaster//Event Calendar 2.0//EN
METHOD:PUBLISH
X-PUBLISHED-TTL:P3D
REFRESH-INTERVAL:P3D
CALSCALE:GREGORIAN
BEGIN:VEVENT
DTSTART:20260121T213000Z
DTEND:20260121T223000Z
X-MICROSOFT-CDO-ALLDAYEVENT:FALSE
SUMMARY:Artificial Intelligence Information Session
DESCRIPTION:Artificial Intelligence (AI) can help people work\, create and solve problems in ethical ways when used responsibly. Enhance your current career experience or education with AI skills.\n\n\n	Program overview with faculty instructor\n	Learn about Ridgewater admissions\, financial aid and the North Star Promise program.\n\n\nReserve your spot\n\n\n	Call 320-222-5971\n	Register online
X-ALT-DESC;FMTTYPE=text/html:<p>Artificial Intelligence (AI) can help people work\, create and solve problems in ethical ways when used responsibly. Enhance your current career experience or education with AI skills.</p>\n\n<ul>\n	<li>Program overview with faculty instructor</li>\n	<li>Learn about Ridgewater admissions\, financial aid and the North Star Promise program.</li>\n</ul>\n\n<h3>Reserve your spot</h3>\n\n<ul>\n	<li>Call&nbsp\;<a href="tel:3202225971" style="color: rgb(181\, 9\, 56)\; box-sizing: border-box\; text-decoration-line: none\; background-color: transparent\; font-weight: 700\;">320-222-5971</a></li>\n	<li><a href="https://admissions.ridgewater.edu/register/ai_01212026" rel="noopener" style="color: rgb(181\, 9\, 56)\; box-sizing: border-box\; text-decoration-line: none\; background-color: transparent\; font-weight: 700\;" target="_blank">Register online</a></li>\n</ul>\n
LOCATION:Virtual on Zoom
UID:e.42.37863
SEQUENCE:3
DTSTAMP:20260421T114906Z
URL:https://business.explorehutchinson.com/events/details/artificial-intelligence-information-session-01-21-2026-37863
END:VEVENT

END:VCALENDAR
