BEGIN:VCALENDAR
VERSION:2.0
PRODID:-//ChamberMaster//Event Calendar 2.0//EN
METHOD:PUBLISH
X-PUBLISHED-TTL:P3D
REFRESH-INTERVAL:P3D
CALSCALE:GREGORIAN
BEGIN:VEVENT
DTSTART:20230505T220000Z
DTEND:20230506T003000Z
X-MICROSOFT-CDO-ALLDAYEVENT:FALSE
SUMMARY:Artist Reception for Envisioning the Landscape by Mary Opatz Herges and Tomas Alvarez
DESCRIPTION:Artist reception for Envisioning the Landscape by Mary Opatz Herges and Tomas Alvarez. Enjoy light refreshments as you view the gallery exhibition. Hear from Mary Opatz Herges\, oil painter\, about her work\, and ask questions you may have. This event is free and open to the public.\n\n\n\nGallery exhibition on view May 3rd - June 9th.
X-ALT-DESC;FMTTYPE=text/html:Artist reception for Envisioning the Landscape by Mary Opatz Herges and Tomas Alvarez. Enjoy light refreshments as you view the gallery exhibition. Hear from Mary Opatz Herges\, oil painter\, about her work\, and ask questions you may have. This event is free and open to the public.<br />\n<br />\nGallery exhibition on view May 3rd - June 9th.
LOCATION:Hutchinson Center for the Arts 15 Franklin St SW
UID:e.42.34546
SEQUENCE:3
DTSTAMP:20260426T040533Z
URL:https://business.explorehutchinson.com/events/details/artist-reception-for-picturing-the-landscape-by-mary-opatz-herges-and-tomas-alvarez-34546
END:VEVENT

END:VCALENDAR
