BEGIN:VCALENDAR
VERSION:2.0
PRODID:-//ChamberMaster//Event Calendar 2.0//EN
METHOD:PUBLISH
X-PUBLISHED-TTL:P3D
REFRESH-INTERVAL:P3D
CALSCALE:GREGORIAN
BEGIN:VEVENT
DTSTART:20260502T213000Z
DTEND:20260503T000000Z
X-MICROSOFT-CDO-ALLDAYEVENT:FALSE
SUMMARY:Authentic Italian Spaghetti Dinner
DESCRIPTION:This is a fundraising dinner event to help send children to Bible Camp this summer. Our menu includes an authentic homemade Italian sauce served over a generous portion of spaghetti noodles\, homemade meatballs\, bread and a ceasar salad\, with a cupcake for dessert. Tickets can be purchased at the door and take out is available.
X-ALT-DESC;FMTTYPE=text/html:This is a fundraising dinner event to help send children to Bible Camp this summer. Our menu includes an authentic homemade Italian sauce served over a generous portion of spaghetti noodles\, homemade meatballs\, bread and a ceasar salad\, with a cupcake for dessert. Tickets can be purchased at the door and take out is available.
LOCATION:Hunters Ridge Community Church 850 School Road SW Hutchinson MN
UID:e.42.38791
SEQUENCE:3
DTSTAMP:20260419T170013Z
URL:https://business.explorehutchinson.com/events/details/authentic-italian-spaghetti-dinner-05-02-2026-38791
END:VEVENT

END:VCALENDAR
