BEGIN:VCALENDAR
VERSION:2.0
PRODID:-//ChamberMaster//Event Calendar 2.0//EN
METHOD:PUBLISH
X-PUBLISHED-TTL:P3D
REFRESH-INTERVAL:P3D
CALSCALE:GREGORIAN
BEGIN:VEVENT
DTSTART:20230506T213000Z
DTEND:20230507T000000Z
X-MICROSOFT-CDO-ALLDAYEVENT:FALSE
SUMMARY:Authentic Italian Spaghetti Dinner
DESCRIPTION:Our annual Authentic Italian Spaghetti Dinner is a fund raiser to help send kids to camp this summer. The Meal includes: Homemade Authentic Italian Spaghetti Sauce over spaghetti noodles Homemade Meatballs Fresh Baked Bread Caesar Salad Fresh Baked Cupcakes
X-ALT-DESC;FMTTYPE=text/html:Our annual Authentic Italian Spaghetti Dinner is a fund raiser to help send kids to camp this summer. The Meal includes: Homemade Authentic Italian Spaghetti Sauce over spaghetti noodles Homemade Meatballs Fresh Baked Bread Caesar Salad Fresh Baked Cupcakes
LOCATION:Hunters Ridge Community Church 850 School Rd SW Hutchinson MN
UID:e.42.34482
SEQUENCE:3
DTSTAMP:20260426T035306Z
URL:https://business.explorehutchinson.com/events/details/authentic-italian-spaghetti-dinner-05-06-2023-34482
END:VEVENT

END:VCALENDAR
