BEGIN:VCALENDAR
VERSION:2.0
PRODID:-//ChamberMaster//Event Calendar 2.0//EN
METHOD:PUBLISH
X-PUBLISHED-TTL:P3D
REFRESH-INTERVAL:P3D
CALSCALE:GREGORIAN
BEGIN:VEVENT
DTSTART:20260228T180000Z
DTEND:20260228T220000Z
X-MICROSOFT-CDO-ALLDAYEVENT:FALSE
SUMMARY:Authors for Minnesota
DESCRIPTION:Author Mike Lein will be back with his books for a fundraiser for Immigrant Law Center of Minnesota and The Woman's Foundation of Minnesota. Show your digital receipt to either of these organizations and receive a free signed book from Mike or author Mira Lyn Kelly or Kristin Kisska and others while supplies last. The Book Keepers will be donating a portion of our sales of Feb 28 to these organizations also.
X-ALT-DESC;FMTTYPE=text/html:Author Mike Lein will be back with his books for a fundraiser for Immigrant Law Center of Minnesota and The Woman&rsquo\;s Foundation of Minnesota. Show your digital receipt to either of these organizations and receive a free signed book from Mike or author Mira Lyn Kelly or Kristin Kisska and others while supplies last. The Book Keepers will be donating a portion of our sales of Feb 28 to these organizations also.
LOCATION:The Book Keepers 47 Main St N Hutchinson\, Mn
UID:e.42.41443
SEQUENCE:3
DTSTAMP:20260421T132704Z
URL:https://business.explorehutchinson.com/events/details/authors-for-minnesota-41443
END:VEVENT

END:VCALENDAR
