BEGIN:VCALENDAR
VERSION:2.0
PRODID:-//ChamberMaster//Event Calendar 2.0//EN
METHOD:PUBLISH
X-PUBLISHED-TTL:P3D
REFRESH-INTERVAL:P3D
CALSCALE:GREGORIAN
BEGIN:VEVENT
DTSTART:20230520T180000Z
DTEND:20230521T020000Z
X-MICROSOFT-CDO-ALLDAYEVENT:FALSE
SUMMARY:Barrick Charity Golf Classic
DESCRIPTION:5th Annual Barrick Charity Golf Classic raising funds for NAMI (National Alliance on Mental Illness). Register online at barrickcharitygolfclassic.com. Interested in being a sponsor or donating silent auction or raffle items\, contact Justin Barrick.
X-ALT-DESC;FMTTYPE=text/html:5th Annual Barrick Charity Golf Classic raising funds for NAMI (National Alliance on Mental Illness). Register online at barrickcharitygolfclassic.com. Interested in being a sponsor or donating silent auction or raffle items\, contact Justin Barrick.
LOCATION:Crow River Golf Club
UID:e.42.33411
SEQUENCE:3
DTSTAMP:20260426T022737Z
URL:https://business.explorehutchinson.com/events/details/barrick-charity-golf-classic-05-20-2023-33411
END:VEVENT

END:VCALENDAR
