BEGIN:VCALENDAR
VERSION:2.0
PRODID:-//ChamberMaster//Event Calendar 2.0//EN
METHOD:PUBLISH
X-PUBLISHED-TTL:P3D
REFRESH-INTERVAL:P3D
CALSCALE:GREGORIAN
BEGIN:VEVENT
DTSTART:20230204T170000Z
DTEND:20230204T190000Z
X-MICROSOFT-CDO-ALLDAYEVENT:FALSE
SUMMARY:Batik Bonanza Class
DESCRIPTION:Taught by Emily Worm. Explore the process of wax-resist on fabric to create fun and unique hand-dyed designs.\n\nAges 10+\n\n$25 non-members\, $20 members\,\n\nRegister Today at hutchinsonarts.org
X-ALT-DESC;FMTTYPE=text/html:<p>Taught by Emily Worm. Explore the process of wax-resist on fabric to create fun and unique hand-dyed designs.</p>\n\n<p>Ages 10+</p>\n\n<p>$25 non-members\, $20 members\,</p>\n\n<p>Register Today at hutchinsonarts.org</p>\n
LOCATION:Hutchinson Center for the Arts 15 Franklin Street SW
UID:e.42.33302
SEQUENCE:3
DTSTAMP:20260425T215640Z
URL:https://business.explorehutchinson.com/events/details/batik-bonanza-class-33302
END:VEVENT

END:VCALENDAR
