BEGIN:VCALENDAR
VERSION:2.0
PRODID:-//ChamberMaster//Event Calendar 2.0//EN
METHOD:PUBLISH
X-PUBLISHED-TTL:P3D
REFRESH-INTERVAL:P3D
CALSCALE:GREGORIAN
BEGIN:VEVENT
DTSTART:20220610T150000Z
DTEND:20220610T180000Z
X-MICROSOFT-CDO-ALLDAYEVENT:FALSE
SUMMARY:Bear Lake Sunshine Society Plant Sale
DESCRIPTION:Wide variety of Plants\, Annuals & Perennials\, -- wide variety of home baked goods.
X-ALT-DESC;FMTTYPE=text/html:Wide variety of Plants\, Annuals &amp\; Perennials\, -- wide variety of home baked goods.
LOCATION:215 Hassen Street Hutchinson\, MN 55350
UID:e.42.31769
SEQUENCE:3
DTSTAMP:20260425T110923Z
URL:https://business.explorehutchinson.com/events/details/bear-lake-sunshine-society-plant-sale-31769
END:VEVENT

END:VCALENDAR
