BEGIN:VCALENDAR
VERSION:2.0
PRODID:-//ChamberMaster//Event Calendar 2.0//EN
METHOD:PUBLISH
X-PUBLISHED-TTL:P3D
REFRESH-INTERVAL:P3D
CALSCALE:GREGORIAN
BEGIN:VEVENT
DTSTART:20230318T140000Z
DTEND:20230318T223000Z
X-MICROSOFT-CDO-ALLDAYEVENT:FALSE
SUMMARY:Big Little Hunting & Fishing Expo & Auction
DESCRIPTION:The Big Little Hunting & Fishing Expo & Auction: Date: 3/18/2023 (Saturday). An event for the entire family! Games for kids\, casting competitions\, trail camera competition\, and beard competition. Hunting and fishing seminars\, free antler scoring\, World Record replica Monster Buck display\, Ark Display\, unique vendors\, food and much more!!!
X-ALT-DESC;FMTTYPE=text/html:The Big Little Hunting &amp\; Fishing Expo &amp\; Auction: Date: 3/18/2023 (Saturday). An event for the entire family! Games for kids\, casting competitions\, trail camera competition\, and beard competition. Hunting and fishing seminars\, free antler scoring\, World Record replica Monster Buck display\, Ark Display\, unique vendors\, food and much more!!!
LOCATION:McLeod County Fairgrounds\, 840 Century Avenue\, Hutchinson\, MN 55350
UID:e.42.33618
SEQUENCE:3
DTSTAMP:20260419T163915Z
URL:https://business.explorehutchinson.com/events/details/big-little-hunting-fishing-expo-auction-33618
END:VEVENT

END:VCALENDAR
