BEGIN:VCALENDAR
VERSION:2.0
PRODID:-//ChamberMaster//Event Calendar 2.0//EN
METHOD:PUBLISH
X-PUBLISHED-TTL:P3D
REFRESH-INTERVAL:P3D
CALSCALE:GREGORIAN
BEGIN:VEVENT
DTSTART:20290530T233000Z
DTEND:20290531T010000Z
X-MICROSOFT-CDO-ALLDAYEVENT:FALSE
SUMMARY:Bingo!
DESCRIPTION:MC's Pub has Bingo at 6:30pm every single Wednesday night through the winter months! We can't wait to see you!
X-ALT-DESC;FMTTYPE=text/html:MC&#39\;s Pub has Bingo at 6:30pm every single Wednesday night through the winter months! We can&#39\;t wait to see you!&nbsp\;
LOCATION:35 3rd Ave SE Hutchinson MN 55350
UID:e.42.37805
SEQUENCE:3
DTSTAMP:20260424T035151Z
URL:https://business.explorehutchinson.com/events/details/bingo-05-30-2029-37805
END:VEVENT

END:VCALENDAR
