BEGIN:VCALENDAR
VERSION:2.0
PRODID:-//ChamberMaster//Event Calendar 2.0//EN
METHOD:PUBLISH
X-PUBLISHED-TTL:P3D
REFRESH-INTERVAL:P3D
CALSCALE:GREGORIAN
BEGIN:VEVENT
DTSTART:20230326T190000Z
DTEND:20230326T210000Z
X-MICROSOFT-CDO-ALLDAYEVENT:FALSE
SUMMARY:Bingo at Vineyard
DESCRIPTION:BINGO fun for ALL ages! Spread the word\; invite your neighbors. Free popcorn and water provided. Winners will split winnings with a named charity each month.
X-ALT-DESC;FMTTYPE=text/html:BINGO fun for ALL ages! Spread the word\; invite your neighbors. Free popcorn and water provided. Winners will split winnings with a named charity each month.
LOCATION:Vineyard Methodist Church 1395 South Grade Rd SW Hutchinson\, MN 55350
UID:e.42.34492
SEQUENCE:3
DTSTAMP:20260419T144336Z
URL:https://business.explorehutchinson.com/events/details/bingo-at-vineyard-34492
END:VEVENT

END:VCALENDAR
