BEGIN:VCALENDAR
VERSION:2.0
PRODID:-//ChamberMaster//Event Calendar 2.0//EN
METHOD:PUBLISH
X-PUBLISHED-TTL:P3D
REFRESH-INTERVAL:P3D
CALSCALE:GREGORIAN
BEGIN:VEVENT
DTSTART:20230227T210000Z
DTEND:20230227T220000Z
X-MICROSOFT-CDO-ALLDAYEVENT:FALSE
SUMMARY:Career Exploration: Administrative Support Careers Information Session
DESCRIPTION:Be the Valued Support for Business Offices Administrative\, healthcare and legal assistants are critical to smooth-running offices. These frontline professionals use the latest office software and technology for business communications\, meeting and event coordination\, client management\, electronic health records and insurance billing for healthcare assistants\, and case research for legal assistants. Explore whether these rewarding careers might be a good fit for you!
X-ALT-DESC;FMTTYPE=text/html:Be the Valued Support for Business Offices Administrative\, healthcare and legal assistants are critical to smooth-running offices. These frontline professionals use the latest office software and technology for business communications\, meeting and event coordination\, client management\, electronic health records and insurance billing for healthcare assistants\, and case research for legal assistants. Explore whether these rewarding careers might be a good fit for you!
LOCATION:Virtual on Zoom
UID:e.42.33648
SEQUENCE:3
DTSTAMP:20260425T232802Z
URL:https://business.explorehutchinson.com/events/details/career-exploration-administrative-support-careers-information-session-33648
END:VEVENT

END:VCALENDAR
