BEGIN:VCALENDAR
VERSION:2.0
PRODID:-//ChamberMaster//Event Calendar 2.0//EN
METHOD:PUBLISH
X-PUBLISHED-TTL:P3D
REFRESH-INTERVAL:P3D
CALSCALE:GREGORIAN
BEGIN:VEVENT
DTSTART:20230209T003000Z
DTEND:20230209T013000Z
X-MICROSOFT-CDO-ALLDAYEVENT:FALSE
SUMMARY:Career Exploration: Education Careers Information Session
DESCRIPTION:Explore Rewarding Education Careers Do you have a passion for young minds and a desire to impact the future? High-demand\, high-satisfaction careers are waiting for YOU! Learn about the new and expanded education options. Many students choose Ridgewater for our educational excellence\, online flexibility and program scholarships. Schedule:   Program overview and format   Meet faculty and students   Connect with Admissions staff   Learn about available scholarships   Q & A session NOTE: Some courses are PSEO eligible for high school students seeking to earn college credits. Teacher assistants must be at least 18 years old\; teacher aides can be 16. Available in Hutchinson\, Willmar\, Online and/or Blended Online   Early Childhood Education Certificate   Early Childhood Education Transfer Pathway AS Degree   Early Childhood Special Education Certificate   Education Foundations Certificate   Elementary Education Foundations Transfer Pathway AS Degree   Special Education Transfer Pathway AS Degree
X-ALT-DESC;FMTTYPE=text/html:Explore Rewarding Education Careers Do you have a passion for young minds and a desire to impact the future? High-demand\, high-satisfaction careers are waiting for YOU! Learn about the new and expanded education options. Many students choose Ridgewater for our educational excellence\, online flexibility and program scholarships. Schedule: &bull\; Program overview and format &bull\; Meet faculty and students &bull\; Connect with Admissions staff &bull\; Learn about available scholarships &bull\; Q &amp\; A session NOTE: Some courses are PSEO eligible for high school students seeking to earn college credits. Teacher assistants must be at least 18 years old\; teacher aides can be 16. Available in Hutchinson\, Willmar\, Online and/or Blended Online &bull\; Early Childhood Education Certificate &bull\; Early Childhood Education Transfer Pathway AS Degree &bull\; Early Childhood Special Education Certificate &bull\; Education Foundations Certificate &bull\; Elementary Education Foundations Transfer Pathway AS Degree &bull\; Special Education Transfer Pathway AS Degree
LOCATION:Virtual via Zoom
UID:e.42.33644
SEQUENCE:3
DTSTAMP:20260425T215940Z
URL:https://business.explorehutchinson.com/events/details/career-exploration-education-careers-information-session-33644
END:VEVENT

END:VCALENDAR
