BEGIN:VCALENDAR
VERSION:2.0
PRODID:-//ChamberMaster//Event Calendar 2.0//EN
METHOD:PUBLISH
X-PUBLISHED-TTL:P3D
REFRESH-INTERVAL:P3D
CALSCALE:GREGORIAN
BEGIN:VEVENT
DTSTART:20220609T233000Z
DTEND:20220610T003000Z
X-MICROSOFT-CDO-ALLDAYEVENT:FALSE
SUMMARY:Career Exploration: Education Careers Virtual Info Session
DESCRIPTION:Want to make a difference in children's lives? High-demand\, high-satisfaction careers are waiting for YOU! Learn about the new and expanded education options at our June 9 info session. Many students choose Ridgewater for its long education tradition\, online flexibility and program scholarships. Meet faculty learn how you can complete the first two years of your four-year degree right at Ridgewater with new transfer pathways in early childhood education\, special education\, and elementary education. Like what you hear? Schedule an in-person campus visit!
X-ALT-DESC;FMTTYPE=text/html:Want to make a difference in children&rsquo\;s lives? High-demand\, high-satisfaction careers are waiting for YOU! Learn about the new and expanded education options at our June 9 info session. Many students choose Ridgewater for its long education tradition\, online flexibility and program scholarships. Meet faculty learn how you can complete the first two years of your four-year degree right at Ridgewater with new transfer pathways in early childhood education\, special education\, and elementary education. Like what you hear? Schedule an in-person campus visit!
LOCATION:Zoom\, but registration for link at https://www.ridgewater.edu/visit
UID:e.42.30783
SEQUENCE:3
DTSTAMP:20260425T110821Z
URL:https://business.explorehutchinson.com/events/details/career-exploration-education-careers-virtual-info-session-06-09-2022-30783
END:VEVENT

END:VCALENDAR
