BEGIN:VCALENDAR
VERSION:2.0
PRODID:-//ChamberMaster//Event Calendar 2.0//EN
METHOD:PUBLISH
X-PUBLISHED-TTL:P3D
REFRESH-INTERVAL:P3D
CALSCALE:GREGORIAN
BEGIN:VEVENT
DTSTART:20230215T180000Z
DTEND:20230215T193000Z
X-MICROSOFT-CDO-ALLDAYEVENT:FALSE
SUMMARY:Career Exploration: Nondestructive Testing Information Session
DESCRIPTION:Nondestructive Testing Makes the World Safer If you enjoy scientific challenges and working with your hands\, maybe a career in Nondestructive Testing is for you! Learn a variety of safety inspection methods such as computerized radiography\, eddy current\, phased array\, and more. Graduates are key inspectors in aerospace\, transportation\, construction\, and power industries on everything from products and parts to theme park rides! Train for in-demand\, high-paying careers in just two years.
X-ALT-DESC;FMTTYPE=text/html:Nondestructive Testing Makes the World Safer If you enjoy scientific challenges and working with your hands\, maybe a career in Nondestructive Testing is for you! Learn a variety of safety inspection methods such as computerized radiography\, eddy current\, phased array\, and more. Graduates are key inspectors in aerospace\, transportation\, construction\, and power industries on everything from products and parts to theme park rides! Train for in-demand\, high-paying careers in just two years.
LOCATION:Hutchinson campus
UID:e.42.33650
SEQUENCE:3
DTSTAMP:20260425T232454Z
URL:https://business.explorehutchinson.com/events/details/career-exploration-nondestructive-testing-information-session-33650
END:VEVENT

END:VCALENDAR
