BEGIN:VCALENDAR
VERSION:2.0
PRODID:-//ChamberMaster//Event Calendar 2.0//EN
METHOD:PUBLISH
X-PUBLISHED-TTL:P3D
REFRESH-INTERVAL:P3D
CALSCALE:GREGORIAN
BEGIN:VEVENT
DTSTART:20230313T130000Z
DTEND:20230317T213000Z
X-MICROSOFT-CDO-ALLDAYEVENT:FALSE
SUMMARY:Career Exploration: Occupational Skills Info Session - In Person or Virtual
DESCRIPTION:Explore Ridgewater's unique Occupational Skills program\, a post-secondary vocational option for students with disabilities and varied abilities. Interested families can schedule 1-hour personal visits with faculty March 13-17\, either 8-11 am or 3-4:30 pm\, virtually on Zoom or in-person on Willmar campus. Students learn to be self-sufficient\, while also training for entry-level\, competitive employment. They benefit from a combination of community-based vocational training\, campus-based personal management classes\, and networking activities. Meet faculty\, explore the program\, and learn about available college disabilities services.
X-ALT-DESC;FMTTYPE=text/html:Explore Ridgewater&#39\;s unique Occupational Skills program\, a post-secondary vocational option for students with disabilities and varied abilities. Interested families can schedule 1-hour personal visits with faculty March 13-17\, either 8-11 am or 3-4:30 pm\, virtually on Zoom or in-person on Willmar campus. Students learn to be self-sufficient\, while also training for entry-level\, competitive employment. They benefit from a combination of community-based vocational training\, campus-based personal management classes\, and networking activities. Meet faculty\, explore the program\, and learn about available college disabilities services.
LOCATION:Zoom or Willmar Campus
UID:e.42.33647
SEQUENCE:3
DTSTAMP:20260419T162156Z
URL:https://business.explorehutchinson.com/events/details/career-exploration-occupational-skills-info-session-in-person-or-virtual-33647
END:VEVENT

END:VCALENDAR
