BEGIN:VCALENDAR
VERSION:2.0
PRODID:-//ChamberMaster//Event Calendar 2.0//EN
METHOD:PUBLISH
X-PUBLISHED-TTL:P3D
REFRESH-INTERVAL:P3D
CALSCALE:GREGORIAN
BEGIN:VEVENT
DTSTART:20230324T140000Z
DTEND:20230324T150000Z
X-MICROSOFT-CDO-ALLDAYEVENT:FALSE
SUMMARY:Career Exploration: Photo & Design Virtual Information Session
DESCRIPTION:Train Online for Photo and Design Careers Develop a well-rounded skill set perfect for producing advertising\, marketing or social media content. Ridgewater's Professional Photography and Multimedia Design Technology programs partner for a best-of-both-worlds Photography and Design program. Become a career expert OR take a single course for your hobby! Topics:   Program versatility and career opportunities   Delivery format\, including optional lab time in Willmar and Hutchinson   Changing industry dynamics   Admissions process Reserve your spot: ridgewater.edu/photoanddesign   320-222-5971
X-ALT-DESC;FMTTYPE=text/html:Train Online for Photo and Design Careers Develop a well-rounded skill set perfect for producing advertising\, marketing or social media content. Ridgewater&rsquo\;s Professional Photography and Multimedia Design Technology programs partner for a best-of-both-worlds Photography and Design program. Become a career expert OR take a single course for your hobby! Topics: &bull\; Program versatility and career opportunities &bull\; Delivery format\, including optional lab time in Willmar and Hutchinson &bull\; Changing industry dynamics &bull\; Admissions process Reserve your spot:&nbsp\;ridgewater.edu/photoanddesign&nbsp\;&bull\; 320-222-5971
LOCATION:Virtual on Zoom
UID:e.42.34445
SEQUENCE:3
DTSTAMP:20260419T162013Z
URL:https://business.explorehutchinson.com/events/details/career-exploration-photo-design-virtual-information-session-34445
END:VEVENT

END:VCALENDAR
