BEGIN:VCALENDAR
VERSION:2.0
PRODID:-//ChamberMaster//Event Calendar 2.0//EN
METHOD:PUBLISH
X-PUBLISHED-TTL:P3D
REFRESH-INTERVAL:P3D
CALSCALE:GREGORIAN
BEGIN:VEVENT
DTSTART:20230302T170000Z
DTEND:20230302T180000Z
X-MICROSOFT-CDO-ALLDAYEVENT:FALSE
SUMMARY:Career Exploration: Vet Tech Virtual Info Session
DESCRIPTION:Explore In-Demand Veterinary Technology Careers March 2 or April 6 11:00 a.m.-12:00 p.m. Virtual on Zoom Meet our experienced faculty and discover our nationally recognized program. Our state-of-the-art facilities\, including our Paws and Claws Clinic\, give students an excellent environment for hands-on practice. Our Veterinary Technology program will ensure you're well-prepared for a rewarding\, exciting career! TOPICS   Career info and job outlook   Admissions criteria and process   Curriculum plan and required coursework   Q & A This nationally recognized program often has a waiting list for students to enroll. Explore and apply early to the longest-running Veterinary Technology program in Minnesota\, drawing students from many states. Reserve your spot: ridgewater.edu/vettech   320-222-5977
X-ALT-DESC;FMTTYPE=text/html:Explore In-Demand Veterinary Technology Careers March 2 or April 6 11:00 a.m.-12:00 p.m. Virtual on Zoom Meet our experienced faculty and discover our nationally recognized program. Our state-of-the-art facilities\, including our Paws and Claws Clinic\, give students an excellent environment for hands-on practice. Our Veterinary Technology program will ensure you&rsquo\;re well-prepared for a rewarding\, exciting career! TOPICS &bull\; Career info and job outlook &bull\; Admissions criteria and process &bull\; Curriculum plan and required coursework &bull\; Q &amp\; A This nationally recognized program often has a waiting list for students to enroll. Explore and apply early to the longest-running Veterinary Technology program in Minnesota\, drawing students from many states. Reserve your spot: ridgewater.edu/vettech &bull\; 320-222-5977
LOCATION:Virtual on Zoom
UID:e.42.34265
SEQUENCE:3
DTSTAMP:20260419T161852Z
URL:https://business.explorehutchinson.com/events/details/career-exploration-vet-tech-virtual-info-session-34265
END:VEVENT

END:VCALENDAR
