BEGIN:VCALENDAR
VERSION:2.0
PRODID:-//ChamberMaster//Event Calendar 2.0//EN
METHOD:PUBLISH
X-PUBLISHED-TTL:P3D
REFRESH-INTERVAL:P3D
CALSCALE:GREGORIAN
BEGIN:VEVENT
DTSTART:20230302T170000Z
DTEND:20230302T180000Z
X-MICROSOFT-CDO-ALLDAYEVENT:FALSE
SUMMARY:Career Exploration: Veterinary Technology Virtual Information Session
DESCRIPTION:Explore in-demand Veterinary Technology careers at this virtual Zoom information session. Meet experienced faculty and discover how this nationally recognized program could be right for you if you are an animal and science lover! Learn about the Paws and Claws Clinic\, job growth outlook\, admissions process\, and more. Registration is required for the Zoom link.
X-ALT-DESC;FMTTYPE=text/html:Explore in-demand Veterinary Technology careers at this virtual Zoom information session. Meet experienced faculty and discover how this nationally recognized program could be right for you if you are an animal and science lover! Learn about the Paws and Claws Clinic\, job growth outlook\, admissions process\, and more. Registration is required for the Zoom link.
LOCATION:Virtual on Zoom
UID:e.42.33656
SEQUENCE:3
DTSTAMP:20260419T144324Z
URL:https://business.explorehutchinson.com/events/details/career-exploration-veterinary-technology-virtual-information-session-33656
END:VEVENT

END:VCALENDAR
