BEGIN:VCALENDAR
VERSION:2.0
PRODID:-//ChamberMaster//Event Calendar 2.0//EN
METHOD:PUBLISH
X-PUBLISHED-TTL:P3D
REFRESH-INTERVAL:P3D
CALSCALE:GREGORIAN
BEGIN:VEVENT
DTSTART:20230313T150000Z
DTEND:20230313T220000Z
X-MICROSOFT-CDO-ALLDAYEVENT:FALSE
SUMMARY:Career Seekers Open House
DESCRIPTION:Many people feel overwhelmed when choosing a career path or finding a new job as they don't know where to start or who can help them. At CMTS\, we give you the tools to access a network of employees\, add to your skills\, and find a job. That way\, you can stop stressing and have the confidence to find meaningful employment.\n\n\n\nWe understand what you're going through. That is why we have spend almost 40 years providing quality training\, career guidance\, and job placement services for thousands of people across Central Minnesota.
X-ALT-DESC;FMTTYPE=text/html:Many people feel overwhelmed when choosing a career path or finding a new job as they don&#39\;t know where to start or who can help them. At CMTS\, we give you the tools to access a network of employees\, add to your skills\, and find a job. That way\, you can stop stressing and have the confidence to find meaningful employment.<br />\n<br />\nWe understand what you&#39\;re going through. That is why we have spend almost 40 years providing quality training\, career guidance\, and job placement services for thousands of people across Central Minnesota.
LOCATION:CareerForce 2 Century Ave Hutchinson\, MN 55350
UID:e.42.34451
SEQUENCE:3
DTSTAMP:20260419T161900Z
URL:https://business.explorehutchinson.com/events/details/career-seekers-open-house-34451
END:VEVENT

END:VCALENDAR
