BEGIN:VCALENDAR
VERSION:2.0
PRODID:-//ChamberMaster//Event Calendar 2.0//EN
METHOD:PUBLISH
X-PUBLISHED-TTL:P3D
REFRESH-INTERVAL:P3D
CALSCALE:GREGORIAN
BEGIN:VEVENT
DTSTART:20220628T180000Z
DTEND:20220628T200000Z
X-MICROSOFT-CDO-ALLDAYEVENT:FALSE
SUMMARY:Cartoons and Comics
DESCRIPTION:June 28-30  1-3pm\n\nAges 10+ $50\n\n\n\nLearn the basics of cartooning and comic books. In this class you will explore drawing techniques using pencils\, pens\, and markers to develop and illustrate a character. Then\, craft a storyline and compose everything into you very own comic book!\n\nLimit 15 students
X-ALT-DESC;FMTTYPE=text/html:June 28-30&nbsp\; 1-3pm<br />\nAges 10+ $50<br />\n<br />\nLearn the basics of cartooning and comic books. In this class you will explore drawing techniques using pencils\, pens\, and markers to develop and illustrate a character. Then\, craft a storyline and compose everything into you very own comic book!<br />\nLimit 15 students
LOCATION:Hutchinson Center for the Arts
UID:e.42.31738
SEQUENCE:3
DTSTAMP:20260425T110155Z
URL:https://business.explorehutchinson.com/events/details/cartoons-and-comics-31738
END:VEVENT

END:VCALENDAR
