BEGIN:VCALENDAR
VERSION:2.0
PRODID:-//ChamberMaster//Event Calendar 2.0//EN
METHOD:PUBLISH
X-PUBLISHED-TTL:P3D
REFRESH-INTERVAL:P3D
CALSCALE:GREGORIAN
BEGIN:VEVENT
DTSTART:20230223T170000Z
DTEND:20230223T180000Z
X-MICROSOFT-CDO-ALLDAYEVENT:FALSE
SUMMARY:Celebrating Black Wall Street & Remembering the Tulsa massacre
DESCRIPTION:Dr. Karlos K. Hill is an expert on racism and race relations. Dr. Hill is an Associate Professor of African and African American Studies at the University of Oklahoma. He is also the founding director of African and African American Studies. Distinguished Lecture Series at the university. Dr. Hill will share his knowledge and expertise on the rise of the Greenwood District\, also known as Black Wall Street\, and guide us on the 1921 Tulsa Race Massacre.
X-ALT-DESC;FMTTYPE=text/html:Dr. Karlos K. Hill is an expert on racism and race relations. Dr. Hill is an Associate Professor of African and African American Studies at the University of Oklahoma. He is also the founding director of African and African American Studies. Distinguished Lecture Series at the university. Dr. Hill will share his knowledge and expertise on the rise of the Greenwood District\, also known as Black Wall Street\, and guide us on the 1921 Tulsa Race Massacre.
LOCATION:Virtual on Zoom
UID:e.42.34261
SEQUENCE:3
DTSTAMP:20260425T232941Z
URL:https://business.explorehutchinson.com/events/details/celebrating-black-wall-street-remembering-the-tulsa-massacre-34261
END:VEVENT

END:VCALENDAR
