BEGIN:VCALENDAR
VERSION:2.0
PRODID:-//ChamberMaster//Event Calendar 2.0//EN
METHOD:PUBLISH
X-PUBLISHED-TTL:P3D
REFRESH-INTERVAL:P3D
CALSCALE:GREGORIAN
BEGIN:VEVENT
DTSTART:20260210T170000Z
DTEND:20260211T000000Z
X-MICROSOFT-CDO-ALLDAYEVENT:FALSE
SUMMARY:Chamber Hometown Golf Challenge
DESCRIPTION:Fun Golf Tournament\, with Games\, Prizes and Food!
X-ALT-DESC;FMTTYPE=text/html:Fun Golf Tournament\, with Games\, Prizes and Food!
LOCATION:Oakdale Golf Course
UID:e.42.38782
SEQUENCE:3
DTSTAMP:20260421T115136Z
URL:https://business.explorehutchinson.com/events/details/chamber-hometown-golf-challenge-38782
END:VEVENT

END:VCALENDAR
