BEGIN:VCALENDAR
VERSION:2.0
PRODID:-//ChamberMaster//Event Calendar 2.0//EN
METHOD:PUBLISH
X-PUBLISHED-TTL:P3D
REFRESH-INTERVAL:P3D
CALSCALE:GREGORIAN
BEGIN:VEVENT
DTSTART:20230518T200000Z
DTEND:20230520T170000Z
X-MICROSOFT-CDO-ALLDAYEVENT:FALSE
SUMMARY:Christ The King Annual Rummage Sale
DESCRIPTION:everything priced to go fast. Thursday 3-7pm Friday 9-4pm Saturday 9-12 bag day
X-ALT-DESC;FMTTYPE=text/html:everything priced to go fast. Thursday 3-7pm Friday 9-4pm Saturday 9-12 bag day
LOCATION:1040 South Grade Rd SW Hutchinson\, MN
UID:e.42.34309
SEQUENCE:3
DTSTAMP:20260426T035706Z
URL:https://business.explorehutchinson.com/events/details/christ-the-king-annual-rummage-sale-05-18-2023-34309
END:VEVENT

END:VCALENDAR
