BEGIN:VCALENDAR
VERSION:2.0
PRODID:-//ChamberMaster//Event Calendar 2.0//EN
METHOD:PUBLISH
X-PUBLISHED-TTL:P3D
REFRESH-INTERVAL:P3D
CALSCALE:GREGORIAN
BEGIN:VEVENT
DTSTART:20191214T150000Z
DTEND:20191214T170000Z
X-MICROSOFT-CDO-ALLDAYEVENT:FALSE
SUMMARY:Christmas Cookie Sale
DESCRIPTION:Several hundred dozen cookies & treats available. $8./lb. Please bring your own carry-out container.
X-ALT-DESC;FMTTYPE=text/html:Several hundred dozen cookies &amp\; treats available. $8./lb. Please bring your own carry-out container.
LOCATION:Peace Lutheran Church - Peace Center 400 Franklin St SW Hutchinson\, MN
UID:e.42.29612
SEQUENCE:3
DTSTAMP:20260423T114619Z
URL:https://business.explorehutchinson.com/events/details/christmas-cookie-sale-29612
END:VEVENT

END:VCALENDAR
