BEGIN:VCALENDAR
VERSION:2.0
PRODID:-//ChamberMaster//Event Calendar 2.0//EN
METHOD:PUBLISH
X-PUBLISHED-TTL:P3D
REFRESH-INTERVAL:P3D
CALSCALE:GREGORIAN
BEGIN:VEVENT
DTSTART:20230505T200000Z
DTEND:20230505T053000Z
X-MICROSOFT-CDO-ALLDAYEVENT:FALSE
SUMMARY:Cinco de Mayo
DESCRIPTION:Festivities begin @ 3 pm Bonus Bingo @ 6:30 pm Entertainment by VJ Brunzy from 8:30 pm   12:30 am Serving the Elks Famous TACO PIES! Loaded Nacho Supreme and other specials $5 Margaritas & $3 Corona crevasses $1 Jell-O Shots -- $5 Patron
X-ALT-DESC;FMTTYPE=text/html:Festivities begin @ 3 pm Bonus Bingo @ 6:30 pm Entertainment by VJ Brunzy from 8:30 pm &ndash\; 12:30 am Serving the Elks Famous TACO PIES! Loaded Nacho Supreme and other specials $5 Margaritas &amp\; $3 Corona crevasses $1 Jell-O Shots -- $5 Patron
LOCATION:Hutchinson Elks Lodge
UID:e.42.34835
SEQUENCE:3
DTSTAMP:20260426T035127Z
URL:https://business.explorehutchinson.com/events/details/cinco-de-mayo-34835
END:VEVENT

END:VCALENDAR
