BEGIN:VCALENDAR
VERSION:2.0
PRODID:-//ChamberMaster//Event Calendar 2.0//EN
METHOD:PUBLISH
X-PUBLISHED-TTL:P3D
REFRESH-INTERVAL:P3D
CALSCALE:GREGORIAN
BEGIN:VEVENT
DTSTART:20230504T120000Z
DTEND:20230506T220000Z
X-MICROSOFT-CDO-ALLDAYEVENT:FALSE
SUMMARY:City Wide Garage Sales
DESCRIPTION:City Wide Garage Sales. Refer to the Hutchinson Leader for locations.
X-ALT-DESC;FMTTYPE=text/html:City Wide Garage Sales. Refer to the Hutchinson Leader for locations.
LOCATION:Hutchinson
UID:e.42.34833
SEQUENCE:3
DTSTAMP:20260426T035456Z
URL:https://business.explorehutchinson.com/events/details/city-wide-garage-sales-34833
END:VEVENT

END:VCALENDAR
