BEGIN:VCALENDAR
VERSION:2.0
PRODID:-//ChamberMaster//Event Calendar 2.0//EN
METHOD:PUBLISH
X-PUBLISHED-TTL:P3D
REFRESH-INTERVAL:P3D
CALSCALE:GREGORIAN
BEGIN:VEVENT
DTSTART:20230506T160000Z
DTEND:20230506T173000Z
X-MICROSOFT-CDO-ALLDAYEVENT:FALSE
SUMMARY:Clay Decal Class
DESCRIPTION:Ceramic decals offer a way to transfer imagery from paper to clay. In this class\, students will decorate premade clay shapes with decals. Work with the instructor to create a cohesive group of pieces and imagery that can be turned into magnets\, ornaments\, or wall hangings. Pieces will be fired again and ready to pick up at a later date. All materials provided.
X-ALT-DESC;FMTTYPE=text/html:<span style="font-family:arial\,helvetica\,sans-serif">Ceramic decals offer a way to transfer imagery from paper to clay.&nbsp\;In this class\, students will decorate premade clay shapes with decals. Work with the instructor to create a cohesive group of pieces and imagery that can be turned into magnets\, ornaments\, or wall hangings. Pieces will be fired again and ready to pick up at a later date. All materials provided.</span>
LOCATION:Hutchinson Center for the Arts 15 Franklin St SW
UID:e.42.34310
SEQUENCE:3
DTSTAMP:20260426T035128Z
URL:https://business.explorehutchinson.com/events/details/clay-decal-class-34310
END:VEVENT

END:VCALENDAR
