BEGIN:VCALENDAR
VERSION:2.0
PRODID:-//ChamberMaster//Event Calendar 2.0//EN
METHOD:PUBLISH
X-PUBLISHED-TTL:P3D
REFRESH-INTERVAL:P3D
CALSCALE:GREGORIAN
BEGIN:VEVENT
DTSTART:20230321T153000Z
DTEND:20230321T173000Z
X-MICROSOFT-CDO-ALLDAYEVENT:FALSE
SUMMARY:Community Health Fair & Healthcare Job Fair
DESCRIPTION:These FREE events are geared toward Ridgewater students\, staff\, and community members of all ages. We hope to have a wide variety of exhibitors and employers in attendance\, and we are very excited to host these events at both campuses. The Health Fair is also a great opportunity for employers to connect with current and soon-to-graduate practical and registered nursing students\, as well as nursing assistants\, personal care attendants\, health care administrative assistants\, universal care workers\, and long-term care activity director students.\n\n\n\nThe job fair is open to community members looking for employment in the healthcare field as well. Tables can offer interactive awareness and activities\, information\, samples\, and discount coupons. This is not an event for product or service sales\; however\, you would be sharing your message with potential future customers! In the past\, it has been successful to strive for a "WOW" factor   something that would surprise people and get them talking.
X-ALT-DESC;FMTTYPE=text/html:These FREE events are geared toward Ridgewater students\, staff\, and community members of all ages. We hope to have a wide variety of exhibitors and employers in attendance\, and we are very excited to host these events at both campuses. The Health Fair is also a great opportunity for employers to connect with current and soon-to-graduate practical and registered nursing students\, as well as nursing assistants\, personal care attendants\, health care administrative assistants\, universal care workers\, and long-term care activity director students.<br />\n<br />\nThe job fair is open to community members looking for employment in the healthcare field as well. Tables can offer interactive awareness and activities\, information\, samples\, and discount coupons. This is not an event for product or service sales\; however\, you would be sharing your message with potential future customers! In the past\, it has been successful to strive for a &ldquo\;WOW&rdquo\; factor &ndash\; something that would surprise people and get them talking.
LOCATION:Hutchinson Campus
UID:e.42.34446
SEQUENCE:3
DTSTAMP:20260419T162552Z
URL:https://business.explorehutchinson.com/events/details/community-health-fair-healthcare-job-fair-03-21-2023-34446
END:VEVENT

END:VCALENDAR
