BEGIN:VCALENDAR
VERSION:2.0
PRODID:-//ChamberMaster//Event Calendar 2.0//EN
METHOD:PUBLISH
X-PUBLISHED-TTL:P3D
REFRESH-INTERVAL:P3D
CALSCALE:GREGORIAN
BEGIN:VEVENT
DTSTART:20220611T150000Z
DTEND:20220611T200000Z
X-MICROSOFT-CDO-ALLDAYEVENT:FALSE
SUMMARY:Craft-n-Store
DESCRIPTION:Craft store for all your craft needs!
X-ALT-DESC;FMTTYPE=text/html:Craft store for all your craft needs!
LOCATION:150 Michigan Street
UID:e.42.31786
SEQUENCE:3
DTSTAMP:20260425T110128Z
URL:https://business.explorehutchinson.com/events/details/craft-n-store-31786
END:VEVENT

END:VCALENDAR
